Package: VanillaICE Version: 1.66.0 Command: /home/biocbuild/R/R-beta-2024-04-15_r86425/bin/R CMD check --install=check:VanillaICE.install-out.txt --library=/home/biocbuild/R/R-beta-2024-04-15_r86425/site-library --no-vignettes --timings VanillaICE_1.66.0.tar.gz StartedAt: 2024-05-08 13:00:46 -0000 (Wed, 08 May 2024) EndedAt: 2024-05-08 13:06:19 -0000 (Wed, 08 May 2024) EllapsedTime: 333.6 seconds RetCode: 0 Status: OK CheckDir: VanillaICE.Rcheck Warnings: 0