Package: VanillaICE Version: 1.66.0 Command: /home/biocbuild/R/R-beta-2024-04-15_r86425/bin/R CMD build --keep-empty-dirs --no-resave-data VanillaICE StartedAt: 2024-05-09 04:17:13 -0000 (Thu, 09 May 2024) EndedAt: 2024-05-09 04:18:29 -0000 (Thu, 09 May 2024) EllapsedTime: 76.1 seconds RetCode: 0 Status: OK PackageFile: VanillaICE_1.66.0.tar.gz PackageFileSize: 2.056 MiB