Package: VanillaICE Version: 1.66.0 Command: /Library/Frameworks/R.framework/Resources/bin/R CMD INSTALL VanillaICE StartedAt: 2024-06-09 15:50:09 -0400 (Sun, 09 Jun 2024) EndedAt: 2024-06-09 15:51:03 -0400 (Sun, 09 Jun 2024) EllapsedTime: 53.9 seconds RetCode: 0 Status: OK