Package: VanillaICE Version: 1.66.0 Command: /Library/Frameworks/R.framework/Resources/bin/R CMD check --install=check:VanillaICE.install-out.txt --library=/Library/Frameworks/R.framework/Resources/library --no-vignettes --timings VanillaICE_1.66.0.tar.gz StartedAt: 2024-06-11 09:15:10 -0400 (Tue, 11 Jun 2024) EndedAt: 2024-06-11 09:21:54 -0400 (Tue, 11 Jun 2024) EllapsedTime: 404.0 seconds RetCode: 0 Status: OK CheckDir: VanillaICE.Rcheck Warnings: 0