Package: VERSO Version: 1.14.0 Command: E:\biocbuild\bbs-3.19-bioc\R\bin\R.exe CMD INSTALL VERSO StartedAt: 2024-10-16 16:34:56 -0400 (Wed, 16 Oct 2024) EndedAt: 2024-10-16 16:35:02 -0400 (Wed, 16 Oct 2024) EllapsedTime: 6.3 seconds RetCode: 0 Status: OK