Package: VERSO Version: 1.14.0 Command: rm -rf VERSO.buildbin-libdir && mkdir VERSO.buildbin-libdir && E:\biocbuild\bbs-3.19-bioc\R\bin\R.exe CMD INSTALL --build --library=VERSO.buildbin-libdir VERSO_1.14.0.tar.gz StartedAt: 2024-10-17 08:50:21 -0400 (Thu, 17 Oct 2024) EndedAt: 2024-10-17 08:50:32 -0400 (Thu, 17 Oct 2024) EllapsedTime: 10.6 seconds RetCode: 0 Status: OK PackageFile: VERSO_1.14.0.zip PackageFileSize: 655.1 KiB