Package: VERSO Version: 1.14.0 Command: rm -rf VERSO.buildbin-libdir && mkdir VERSO.buildbin-libdir && F:\biocbuild\bbs-3.19-bioc\R\bin\R.exe CMD INSTALL --build --library=VERSO.buildbin-libdir VERSO_1.14.0.tar.gz StartedAt: 2024-06-27 09:05:47 -0400 (Thu, 27 Jun 2024) EndedAt: 2024-06-27 09:06:03 -0400 (Thu, 27 Jun 2024) EllapsedTime: 16.4 seconds RetCode: 0 Status: OK PackageFile: VERSO_1.14.0.zip PackageFileSize: 655 KiB