Package: VERSO Version: 1.14.0 Command: /home/biocbuild/bbs-3.19-bioc/R/bin/R CMD build --keep-empty-dirs --no-resave-data VERSO StartedAt: 2024-10-16 21:19:48 -0400 (Wed, 16 Oct 2024) EndedAt: 2024-10-16 21:19:55 -0400 (Wed, 16 Oct 2024) EllapsedTime: 7.0 seconds RetCode: 0 Status: OK PackageFile: VERSO_1.14.0.tar.gz PackageFileSize: 622.6 KiB