Package: VERSO Version: 1.14.0 Command: rm -rf VERSO.buildbin-libdir && mkdir VERSO.buildbin-libdir && /Users/biocbuild/BBS/utils/build-universal.sh VERSO_1.14.0.tar.gz /Library/Frameworks/R.framework/Resources/bin/R VERSO.buildbin-libdir StartedAt: 2024-06-10 00:45:14 -0400 (Mon, 10 Jun 2024) EndedAt: 2024-06-10 00:45:21 -0400 (Mon, 10 Jun 2024) EllapsedTime: 6.6 seconds RetCode: 0 Status: OK PackageFile: VERSO_1.14.0.tgz PackageFileSize: 665.4 KiB