Package: VERSO Version: 1.14.0 Command: /home/biocbuild/R/R-beta-2024-04-15_r86425/bin/R CMD build --keep-empty-dirs --no-resave-data VERSO StartedAt: 2024-05-09 04:19:15 -0000 (Thu, 09 May 2024) EndedAt: 2024-05-09 04:19:25 -0000 (Thu, 09 May 2024) EllapsedTime: 10.0 seconds RetCode: 0 Status: OK PackageFile: VERSO_1.14.0.tar.gz PackageFileSize: 757.6 KiB