Package: VCFArray Version: 1.20.0 Command: chmod a+r VCFArray -R && F:\biocbuild\bbs-3.19-bioc\R\bin\R.exe CMD build --keep-empty-dirs --no-resave-data VCFArray StartedAt: 2024-06-26 22:32:03 -0400 (Wed, 26 Jun 2024) EndedAt: 2024-06-26 22:33:53 -0400 (Wed, 26 Jun 2024) EllapsedTime: 110.5 seconds RetCode: 0 Status: OK PackageFile: VCFArray_1.20.0.tar.gz PackageFileSize: 302.9 KiB