Package: VCFArray Version: 1.20.0 Command: rm -rf VCFArray.buildbin-libdir && mkdir VCFArray.buildbin-libdir && F:\biocbuild\bbs-3.19-bioc\R\bin\R.exe CMD INSTALL --build --library=VCFArray.buildbin-libdir VCFArray_1.20.0.tar.gz StartedAt: 2024-06-27 09:05:35 -0400 (Thu, 27 Jun 2024) EndedAt: 2024-06-27 09:06:38 -0400 (Thu, 27 Jun 2024) EllapsedTime: 62.9 seconds RetCode: 0 Status: OK PackageFile: VCFArray_1.20.0.zip PackageFileSize: 1.044 MiB