Package: VAExprs Version: 1.10.0 Command: /Library/Frameworks/R.framework/Resources/bin/R CMD build --keep-empty-dirs --no-resave-data VAExprs StartedAt: 2024-10-17 11:14:12 -0400 (Thu, 17 Oct 2024) EndedAt: 2024-10-17 11:15:09 -0400 (Thu, 17 Oct 2024) EllapsedTime: 57.0 seconds RetCode: 0 Status: OK PackageFile: VAExprs_1.10.0.tar.gz PackageFileSize: 561.7 KiB