Package: Uniquorn Version: 2.24.0 Command: E:\biocbuild\bbs-3.19-bioc\R\bin\R.exe CMD INSTALL Uniquorn StartedAt: 2024-10-16 16:32:54 -0400 (Wed, 16 Oct 2024) EndedAt: 2024-10-16 16:33:45 -0400 (Wed, 16 Oct 2024) EllapsedTime: 51.4 seconds RetCode: 0 Status: OK