Package: Uniquorn Version: 2.24.0 Command: E:\biocbuild\bbs-3.19-bioc\R\bin\R.exe CMD check --no-multiarch --install=check:Uniquorn.install-out.txt --library=E:\biocbuild\bbs-3.19-bioc\R\library --no-vignettes --timings Uniquorn_2.24.0.tar.gz StartedAt: 2024-10-17 06:47:28 -0400 (Thu, 17 Oct 2024) EndedAt: 2024-10-17 06:52:53 -0400 (Thu, 17 Oct 2024) EllapsedTime: 325.2 seconds RetCode: 0 Status: OK CheckDir: Uniquorn.Rcheck Warnings: 0