Package: Uniquorn Version: 2.24.0 Command: rm -rf Uniquorn.buildbin-libdir && mkdir Uniquorn.buildbin-libdir && E:\biocbuild\bbs-3.19-bioc\R\bin\R.exe CMD INSTALL --build --library=Uniquorn.buildbin-libdir Uniquorn_2.24.0.tar.gz StartedAt: 2024-10-17 08:49:50 -0400 (Thu, 17 Oct 2024) EndedAt: 2024-10-17 08:50:37 -0400 (Thu, 17 Oct 2024) EllapsedTime: 46.5 seconds RetCode: 0 Status: OK PackageFile: Uniquorn_2.24.0.zip PackageFileSize: 2.276 MiB