Package: Uniquorn Version: 2.24.0 Command: chmod a+r Uniquorn -R && F:\biocbuild\bbs-3.19-bioc\R\bin\R.exe CMD build --keep-empty-dirs --no-resave-data Uniquorn StartedAt: 2024-06-26 22:30:33 -0400 (Wed, 26 Jun 2024) EndedAt: 2024-06-26 22:31:25 -0400 (Wed, 26 Jun 2024) EllapsedTime: 51.9 seconds RetCode: 0 Status: OK PackageFile: Uniquorn_2.24.0.tar.gz PackageFileSize: 2.196 MiB