Package: Uniquorn Version: 2.24.0 Command: rm -rf Uniquorn.buildbin-libdir && mkdir Uniquorn.buildbin-libdir && F:\biocbuild\bbs-3.19-bioc\R\bin\R.exe CMD INSTALL --build --library=Uniquorn.buildbin-libdir Uniquorn_2.24.0.tar.gz StartedAt: 2024-06-27 09:05:11 -0400 (Thu, 27 Jun 2024) EndedAt: 2024-06-27 09:05:59 -0400 (Thu, 27 Jun 2024) EllapsedTime: 48.1 seconds RetCode: 0 Status: OK PackageFile: Uniquorn_2.24.0.zip PackageFileSize: 2.276 MiB