Package: Uniquorn Version: 2.24.0 Command: /home/biocbuild/bbs-3.19-bioc/R/bin/R CMD INSTALL Uniquorn StartedAt: 2024-10-16 16:08:34 -0400 (Wed, 16 Oct 2024) EndedAt: 2024-10-16 16:09:14 -0400 (Wed, 16 Oct 2024) EllapsedTime: 40.1 seconds RetCode: 0 Status: OK