Package: Uniquorn Version: 2.24.0 Command: /home/biocbuild/bbs-3.19-bioc/R/bin/R CMD check --install=check:Uniquorn.install-out.txt --library=/home/biocbuild/bbs-3.19-bioc/R/site-library --timings Uniquorn_2.24.0.tar.gz StartedAt: 2024-10-17 06:11:38 -0400 (Thu, 17 Oct 2024) EndedAt: 2024-10-17 06:16:17 -0400 (Thu, 17 Oct 2024) EllapsedTime: 278.6 seconds RetCode: 0 Status: OK CheckDir: Uniquorn.Rcheck Warnings: 0