Package: Uniquorn Version: 2.24.0 Command: /home/biocbuild/bbs-3.19-bioc/R/bin/R CMD build --keep-empty-dirs --no-resave-data Uniquorn StartedAt: 2024-10-16 21:17:17 -0400 (Wed, 16 Oct 2024) EndedAt: 2024-10-16 21:17:58 -0400 (Wed, 16 Oct 2024) EllapsedTime: 41.1 seconds RetCode: 0 Status: OK PackageFile: Uniquorn_2.24.0.tar.gz PackageFileSize: 2.196 MiB