Package: Uniquorn Version: 2.24.0 Command: /Library/Frameworks/R.framework/Resources/bin/R CMD INSTALL Uniquorn StartedAt: 2024-10-16 15:41:17 -0400 (Wed, 16 Oct 2024) EndedAt: 2024-10-16 15:42:42 -0400 (Wed, 16 Oct 2024) EllapsedTime: 85.2 seconds RetCode: 0 Status: OK