Package: Uniquorn Version: 2.24.0 Command: /home/biocbuild/R/R-beta-2024-04-15_r86425/bin/R CMD check --install=check:Uniquorn.install-out.txt --library=/home/biocbuild/R/R-beta-2024-04-15_r86425/site-library --no-vignettes --timings Uniquorn_2.24.0.tar.gz StartedAt: 2024-05-08 12:59:59 -0000 (Wed, 08 May 2024) EndedAt: 2024-05-08 13:06:11 -0000 (Wed, 08 May 2024) EllapsedTime: 372.7 seconds RetCode: 0 Status: OK CheckDir: Uniquorn.Rcheck Warnings: 0