Package: Uniquorn Version: 2.24.0 Command: /home/biocbuild/R/R-beta-2024-04-15_r86425/bin/R CMD build --keep-empty-dirs --no-resave-data Uniquorn StartedAt: 2024-05-09 04:16:31 -0000 (Thu, 09 May 2024) EndedAt: 2024-05-09 04:17:25 -0000 (Thu, 09 May 2024) EllapsedTime: 54.1 seconds RetCode: 0 Status: OK PackageFile: Uniquorn_2.24.0.tar.gz PackageFileSize: 2.196 MiB