Package: Uniquorn Version: 2.24.0 Command: /Library/Frameworks/R.framework/Resources/bin/R CMD INSTALL Uniquorn StartedAt: 2024-06-09 15:51:40 -0400 (Sun, 09 Jun 2024) EndedAt: 2024-06-09 15:52:43 -0400 (Sun, 09 Jun 2024) EllapsedTime: 62.9 seconds RetCode: 0 Status: OK