Package: Uniquorn Version: 2.24.0 Command: /Library/Frameworks/R.framework/Resources/bin/R CMD build --keep-empty-dirs --no-resave-data Uniquorn StartedAt: 2024-06-10 06:22:13 -0400 (Mon, 10 Jun 2024) EndedAt: 2024-06-10 06:23:15 -0400 (Mon, 10 Jun 2024) EllapsedTime: 62.5 seconds RetCode: 0 Status: OK PackageFile: Uniquorn_2.24.0.tar.gz PackageFileSize: 2.196 MiB