Package: Uniquorn Version: 2.24.0 Command: rm -rf Uniquorn.buildbin-libdir && mkdir Uniquorn.buildbin-libdir && /Users/biocbuild/BBS/utils/build-universal.sh Uniquorn_2.24.0.tar.gz /Library/Frameworks/R.framework/Resources/bin/R Uniquorn.buildbin-libdir StartedAt: 2024-06-11 13:39:36 -0400 (Tue, 11 Jun 2024) EndedAt: 2024-06-11 13:40:47 -0400 (Tue, 11 Jun 2024) EllapsedTime: 70.8 seconds RetCode: 0 Status: OK PackageFile: Uniquorn_2.24.0.tgz PackageFileSize: 2.321 MiB