Package: Uniquorn Version: 2.24.0 Command: /Library/Frameworks/R.framework/Resources/bin/R CMD check --install=check:Uniquorn.install-out.txt --library=/Library/Frameworks/R.framework/Resources/library --no-vignettes --timings Uniquorn_2.24.0.tar.gz StartedAt: 2024-10-18 16:12:31 -0400 (Fri, 18 Oct 2024) EndedAt: 2024-10-18 16:18:27 -0400 (Fri, 18 Oct 2024) EllapsedTime: 355.6 seconds RetCode: 0 Status: OK CheckDir: Uniquorn.Rcheck Warnings: 0