Package: Uniquorn Version: 2.24.0 Command: rm -rf Uniquorn.buildbin-libdir && mkdir Uniquorn.buildbin-libdir && /Users/biocbuild/BBS/utils/build-universal.sh Uniquorn_2.24.0.tar.gz /Library/Frameworks/R.framework/Resources/bin/R Uniquorn.buildbin-libdir StartedAt: 2024-10-15 20:45:25 -0400 (Tue, 15 Oct 2024) EndedAt: 2024-10-15 20:46:23 -0400 (Tue, 15 Oct 2024) EllapsedTime: 57.8 seconds RetCode: 0 Status: OK PackageFile: Uniquorn_2.24.0.tgz PackageFileSize: 2.321 MiB