Package: Uniquorn Version: 2.24.0 Maintainer: 'Raik Otto' MaintainerEmail: raik.otto at hu-berlin.de git_url: https://git.bioconductor.org/packages/Uniquorn git_branch: RELEASE_3_19 git_last_commit: bf50fb6 git_last_commit_date: 2024-04-30 10:48:52 -0400 (Tue, 30 Apr 2024)