Package: UniProt.ws Version: 2.44.0 Command: E:\biocbuild\bbs-3.19-bioc\R\bin\R.exe CMD check --no-multiarch --install=check:UniProt.ws.install-out.txt --library=E:\biocbuild\bbs-3.19-bioc\R\library --no-vignettes --timings UniProt.ws_2.44.0.tar.gz StartedAt: 2024-10-17 06:47:03 -0400 (Thu, 17 Oct 2024) EndedAt: 2024-10-17 06:49:27 -0400 (Thu, 17 Oct 2024) EllapsedTime: 143.4 seconds RetCode: 0 Status: OK CheckDir: UniProt.ws.Rcheck Warnings: 0