Package: UniProt.ws Version: 2.44.0 Command: F:\biocbuild\bbs-3.19-bioc\R\bin\R.exe CMD check --no-multiarch --install=check:UniProt.ws.install-out.txt --library=F:\biocbuild\bbs-3.19-bioc\R\library --no-vignettes --timings UniProt.ws_2.44.0.tar.gz StartedAt: 2024-06-27 07:14:58 -0400 (Thu, 27 Jun 2024) EndedAt: 2024-06-27 07:17:28 -0400 (Thu, 27 Jun 2024) EllapsedTime: 150.0 seconds RetCode: 0 Status: OK CheckDir: UniProt.ws.Rcheck Warnings: 0