Package: UniProt.ws Version: 2.44.0 Command: /Library/Frameworks/R.framework/Resources/bin/R CMD build --keep-empty-dirs --no-resave-data UniProt.ws StartedAt: 2024-10-17 00:10:10 -0400 (Thu, 17 Oct 2024) EndedAt: 2024-10-17 00:50:10 -0400 (Thu, 17 Oct 2024) EllapsedTime: 2400.0 seconds RetCode: None Status: TIMEOUT PackageFile: None PackageFileSize: NA