Package: UniProt.ws Version: 2.44.0 Command: /home/biocbuild/R/R-beta-2024-04-15_r86425/bin/R CMD check --install=check:UniProt.ws.install-out.txt --library=/home/biocbuild/R/R-beta-2024-04-15_r86425/site-library --no-vignettes --timings UniProt.ws_2.44.0.tar.gz StartedAt: 2024-05-08 12:59:47 -0000 (Wed, 08 May 2024) EndedAt: 2024-05-08 13:02:58 -0000 (Wed, 08 May 2024) EllapsedTime: 191.4 seconds RetCode: 0 Status: OK CheckDir: UniProt.ws.Rcheck Warnings: 0