Package: UniProt.ws Version: 2.44.0 Command: /Library/Frameworks/R.framework/Resources/bin/R CMD INSTALL UniProt.ws StartedAt: 2024-06-09 16:01:02 -0400 (Sun, 09 Jun 2024) EndedAt: 2024-06-09 16:01:26 -0400 (Sun, 09 Jun 2024) EllapsedTime: 24.1 seconds RetCode: 0 Status: OK