Package: UniProt.ws Version: 2.44.0 Command: /Library/Frameworks/R.framework/Resources/bin/R CMD build --keep-empty-dirs --no-resave-data UniProt.ws StartedAt: 2024-06-10 06:21:57 -0400 (Mon, 10 Jun 2024) EndedAt: 2024-06-10 06:22:35 -0400 (Mon, 10 Jun 2024) EllapsedTime: 37.6 seconds RetCode: 0 Status: OK PackageFile: UniProt.ws_2.44.0.tar.gz PackageFileSize: 236.2 KiB