Package: UniProt.ws Version: 2.44.0 Command: /Library/Frameworks/R.framework/Resources/bin/R CMD INSTALL UniProt.ws StartedAt: 2024-10-16 16:53:48 -0400 (Wed, 16 Oct 2024) EndedAt: 2024-10-16 16:54:07 -0400 (Wed, 16 Oct 2024) EllapsedTime: 18.9 seconds RetCode: 0 Status: OK