Package: UniProt.ws Version: 2.44.0 Command: rm -rf UniProt.ws.buildbin-libdir && mkdir UniProt.ws.buildbin-libdir && /Users/biocbuild/BBS/utils/build-universal.sh UniProt.ws_2.44.0.tar.gz /Library/Frameworks/R.framework/Resources/bin/R UniProt.ws.buildbin-libdir StartedAt: 2024-10-15 20:45:22 -0400 (Tue, 15 Oct 2024) EndedAt: 2024-10-15 20:45:45 -0400 (Tue, 15 Oct 2024) EllapsedTime: 23.8 seconds RetCode: 0 Status: OK PackageFile: UniProt.ws_2.44.0.tgz PackageFileSize: 499.2 KiB