Package: Ularcirc Version: 1.22.0 Command: E:\biocbuild\bbs-3.19-bioc\R\bin\R.exe CMD INSTALL Ularcirc StartedAt: 2024-10-16 16:47:46 -0400 (Wed, 16 Oct 2024) EndedAt: 2024-10-16 16:48:10 -0400 (Wed, 16 Oct 2024) EllapsedTime: 24.2 seconds RetCode: 0 Status: OK