Package: Ularcirc Version: 1.22.0 Command: /Library/Frameworks/R.framework/Resources/bin/R CMD check --install=check:Ularcirc.install-out.txt --library=/Library/Frameworks/R.framework/Resources/library --no-vignettes --timings Ularcirc_1.22.0.tar.gz StartedAt: 2024-10-18 16:09:46 -0400 (Fri, 18 Oct 2024) EndedAt: 2024-10-18 16:11:57 -0400 (Fri, 18 Oct 2024) EllapsedTime: 131.0 seconds RetCode: 0 Status: WARNINGS CheckDir: Ularcirc.Rcheck Warnings: 1