Package: UPDhmm Version: 1.0.0 Command: rm -rf UPDhmm.buildbin-libdir && mkdir UPDhmm.buildbin-libdir && E:\biocbuild\bbs-3.19-bioc\R\bin\R.exe CMD INSTALL --build --library=UPDhmm.buildbin-libdir UPDhmm_1.0.0.tar.gz StartedAt: 2024-10-17 08:49:55 -0400 (Thu, 17 Oct 2024) EndedAt: 2024-10-17 08:50:13 -0400 (Thu, 17 Oct 2024) EllapsedTime: 17.9 seconds RetCode: 0 Status: OK PackageFile: UPDhmm_1.0.0.zip PackageFileSize: 279.4 KiB