Package: UPDhmm Version: 1.0.0 Command: /home/biocbuild/bbs-3.19-bioc/R/bin/R CMD build --keep-empty-dirs --no-resave-data UPDhmm StartedAt: 2024-10-16 21:17:25 -0400 (Wed, 16 Oct 2024) EndedAt: 2024-10-16 21:17:48 -0400 (Wed, 16 Oct 2024) EllapsedTime: 23.0 seconds RetCode: 0 Status: OK PackageFile: UPDhmm_1.0.0.tar.gz PackageFileSize: 287.7 KiB