Package: UNDO Version: 1.46.0 Command: E:\biocbuild\bbs-3.19-bioc\R\bin\R.exe CMD INSTALL UNDO StartedAt: 2024-10-16 16:02:04 -0400 (Wed, 16 Oct 2024) EndedAt: 2024-10-16 16:02:15 -0400 (Wed, 16 Oct 2024) EllapsedTime: 11.7 seconds RetCode: 0 Status: OK