Package: UNDO Version: 1.46.0 Command: chmod a+r UNDO -R && E:\biocbuild\bbs-3.19-bioc\R\bin\R.exe CMD build --keep-empty-dirs --no-resave-data UNDO StartedAt: 2024-10-16 22:27:57 -0400 (Wed, 16 Oct 2024) EndedAt: 2024-10-16 22:28:12 -0400 (Wed, 16 Oct 2024) EllapsedTime: 14.4 seconds RetCode: 0 Status: OK PackageFile: UNDO_1.46.0.tar.gz PackageFileSize: 2.785 MiB