Package: UNDO Version: 1.46.0 Command: rm -rf UNDO.buildbin-libdir && mkdir UNDO.buildbin-libdir && E:\biocbuild\bbs-3.19-bioc\R\bin\R.exe CMD INSTALL --build --library=UNDO.buildbin-libdir UNDO_1.46.0.tar.gz StartedAt: 2024-10-17 08:49:45 -0400 (Thu, 17 Oct 2024) EndedAt: 2024-10-17 08:50:06 -0400 (Thu, 17 Oct 2024) EllapsedTime: 20.5 seconds RetCode: 0 Status: OK PackageFile: UNDO_1.46.0.zip PackageFileSize: 2.819 MiB