Package: UNDO Version: 1.46.0 Command: /home/biocbuild/bbs-3.19-bioc/R/bin/R CMD INSTALL UNDO StartedAt: 2024-10-16 15:49:38 -0400 (Wed, 16 Oct 2024) EndedAt: 2024-10-16 15:49:41 -0400 (Wed, 16 Oct 2024) EllapsedTime: 3.3 seconds RetCode: 0 Status: OK