Package: UNDO Version: 1.46.0 Command: /home/biocbuild/bbs-3.19-bioc/R/bin/R CMD build --keep-empty-dirs --no-resave-data UNDO StartedAt: 2024-10-16 21:17:13 -0400 (Wed, 16 Oct 2024) EndedAt: 2024-10-16 21:17:22 -0400 (Wed, 16 Oct 2024) EllapsedTime: 9.0 seconds RetCode: 0 Status: OK PackageFile: UNDO_1.46.0.tar.gz PackageFileSize: 2.782 MiB