Package: UNDO Version: 1.46.0 Command: /Library/Frameworks/R.framework/Resources/bin/R CMD check --install=check:UNDO.install-out.txt --library=/Library/Frameworks/R.framework/Resources/library --no-vignettes --timings UNDO_1.46.0.tar.gz StartedAt: 2024-06-09 23:43:47 -0400 (Sun, 09 Jun 2024) EndedAt: 2024-06-09 23:44:27 -0400 (Sun, 09 Jun 2024) EllapsedTime: 40.6 seconds RetCode: 0 Status: OK CheckDir: UNDO.Rcheck Warnings: 0