Package: UNDO Version: 1.46.0 Command: /Library/Frameworks/R.framework/Resources/bin/R CMD check --install=check:UNDO.install-out.txt --library=/Library/Frameworks/R.framework/Resources/library --no-vignettes --timings UNDO_1.46.0.tar.gz StartedAt: 2024-06-11 09:09:10 -0400 (Tue, 11 Jun 2024) EndedAt: 2024-06-11 09:10:19 -0400 (Tue, 11 Jun 2024) EllapsedTime: 69.7 seconds RetCode: 0 Status: OK CheckDir: UNDO.Rcheck Warnings: 0