Package: UNDO Version: 1.46.0 Command: /Library/Frameworks/R.framework/Resources/bin/R CMD INSTALL UNDO StartedAt: 2024-10-16 15:35:57 -0400 (Wed, 16 Oct 2024) EndedAt: 2024-10-16 15:36:01 -0400 (Wed, 16 Oct 2024) EllapsedTime: 4.3 seconds RetCode: 0 Status: OK